BEGIN:VCALENDAR
VERSION:2.0
PRODID:-//Christ &amp; St. Luke&#039;s Episcopal Church - ECPv6.15.20//NONSGML v1.0//EN
CALSCALE:GREGORIAN
METHOD:PUBLISH
X-ORIGINAL-URL:https://christandstlukes.org
X-WR-CALDESC:Events for Christ &amp; St. Luke&#039;s Episcopal Church
REFRESH-INTERVAL;VALUE=DURATION:PT1H
X-Robots-Tag:noindex
X-PUBLISHED-TTL:PT1H
BEGIN:VTIMEZONE
TZID:America/New_York
BEGIN:DAYLIGHT
TZOFFSETFROM:-0500
TZOFFSETTO:-0400
TZNAME:EDT
DTSTART:20250309T070000
END:DAYLIGHT
BEGIN:STANDARD
TZOFFSETFROM:-0400
TZOFFSETTO:-0500
TZNAME:EST
DTSTART:20251102T060000
END:STANDARD
BEGIN:DAYLIGHT
TZOFFSETFROM:-0500
TZOFFSETTO:-0400
TZNAME:EDT
DTSTART:20260308T070000
END:DAYLIGHT
BEGIN:STANDARD
TZOFFSETFROM:-0400
TZOFFSETTO:-0500
TZNAME:EST
DTSTART:20261101T060000
END:STANDARD
BEGIN:DAYLIGHT
TZOFFSETFROM:-0500
TZOFFSETTO:-0400
TZNAME:EDT
DTSTART:20270314T070000
END:DAYLIGHT
BEGIN:STANDARD
TZOFFSETFROM:-0400
TZOFFSETTO:-0500
TZNAME:EST
DTSTART:20271107T060000
END:STANDARD
END:VTIMEZONE
BEGIN:VEVENT
DTSTART;TZID=America/New_York:20260522T120000
DTEND;TZID=America/New_York:20260522T124500
DTSTAMP:20260420T100030
CREATED:20260114T151732Z
LAST-MODIFIED:20260114T151732Z
UID:10011468-1779451200-1779453900@christandstlukes.org
SUMMARY:Midday Music V: New Commonwealth Quartet
DESCRIPTION:Our final Midday music of the season showcases the New Commonwealth String Quartet\, comprising of violinists Elizabeth Coulter Vonderheide and Jonathan Richards\, violist Matthew Umlauf\, and cellist Elizabeth Richards.
URL:https://christandstlukes.org/event/midday-music-v-new-commonwealth-quartet/
LOCATION:Christ & St. Luke’s\, 560 West Olney Road\, Norfolk\, VA\, 23507\, United States
CATEGORIES:Concert Series
ATTACH;FMTTYPE=image/jpeg:https://christandstlukes.org/wp-content/uploads/2023/01/SMSS-event-image.jpg
ORGANIZER;CN="Kevin Kwan":MAILTO:kevin.kwan@christandstlukes.org
GEO:36.8598486;-76.2979187
X-APPLE-STRUCTURED-LOCATION;VALUE=URI;X-ADDRESS=Christ & St. Luke’s 560 West Olney Road Norfolk VA 23507 United States;X-APPLE-RADIUS=500;X-TITLE=560 West Olney Road:geo:-76.2979187,36.8598486
END:VEVENT
BEGIN:VEVENT
DTSTART;TZID=America/New_York:20260614T140000
DTEND;TZID=America/New_York:20260614T150000
DTSTAMP:20260420T100030
CREATED:20260414T143351Z
LAST-MODIFIED:20260414T143351Z
UID:10011812-1781445600-1781449200@christandstlukes.org
SUMMARY:Caring For Creation Chrysler Museum Docent Tour
DESCRIPTION:Join us for a special docent-led tour at the Chrysler Museum of Art\, titled “Nature as Witness: The Hudson River School and Our Natural World.” This guided experience explores how artists of the Hudson River School portrayed the beauty of creation and humanity’s relationship with the natural world. All are welcome! Come enjoy an afternoon of art\, reflection\, and fellowship.
URL:https://christandstlukes.org/event/caring-for-creation-chrysler-museum-docent-tour/
LOCATION:Chrysler Museum\, One Memorial Place\, Norfolk\, 23510\, United States
CATEGORIES:Fellowship
ATTACH;FMTTYPE=image/webp:https://christandstlukes.org/wp-content/uploads/2025/11/chrysler-museum.webp
GEO:36.8559134;-76.2937558
X-APPLE-STRUCTURED-LOCATION;VALUE=URI;X-ADDRESS=Chrysler Museum One Memorial Place Norfolk 23510 United States;X-APPLE-RADIUS=500;X-TITLE=One Memorial Place:geo:-76.2937558,36.8559134
END:VEVENT
BEGIN:VEVENT
DTSTART;TZID=America/New_York:20260810T090000
DTEND;TZID=America/New_York:20260810T120000
DTSTAMP:20260420T100030
CREATED:20260417T185905Z
LAST-MODIFIED:20260417T185905Z
UID:10011815-1786352400-1786363200@christandstlukes.org
SUMMARY:Week of Wonder
DESCRIPTION:More details coming soon. Register your child(ren) below. \n\n\n                \n                        \n                            2026 Week of Wonder Registration\n                             \n                        \n                        NameThis field is for validation purposes and should be left unchanged.Parent/Guardian Name(Required)\n                            \n                            \n                                                    \n                                                    First\n                                                \n                            \n                            \n                                                    \n                                                    Last\n                                                \n                            \n                        Address(Required)    \n                    \n                         \n                                        \n                                        Street Address\n                                    \n                                        \n                                        Address Line 2\n                                    \n                                    \n                                    City\n                                 \n                                        AlabamaAlaskaAmerican SamoaArizonaArkansasCaliforniaColoradoConnecticutDelawareDistrict of ColumbiaFloridaGeorgiaGuamHawaiiIdahoIllinoisIndianaIowaKansasKentuckyLouisianaMaineMarylandMassachusettsMichiganMinnesotaMississippiMissouriMontanaNebraskaNevadaNew HampshireNew JerseyNew MexicoNew YorkNorth CarolinaNorth DakotaNorthern Mariana IslandsOhioOklahomaOregonPennsylvaniaPuerto RicoRhode IslandSouth CarolinaSouth DakotaTennesseeTexasUtahU.S. Virgin IslandsVermontVirginiaWashingtonWest VirginiaWisconsinWyomingArmed Forces AmericasArmed Forces EuropeArmed Forces Pacific\n                                        State\n                                      \n                                    \n                                    ZIP Code\n                                \n                    \n                Email(Required)\n                            \n                        Phone(Required)Get CSL Updates?If you're not already receiving our email updates\, would you like us to add you to the list?\n								\n								Yes\, please\n							\n								\n								No thank you\n							How many children do you need to register?123Do you have any time or talents you would like to contribute?Child 1 InfoChild 1 Name\n                            \n                            \n                                                    \n                                                    First\n                                                \n                            \n                            \n                                                    \n                                                    Last\n                                                \n                            \n                        Child 1 AgeChild 1 GradeChild 1 Birthdate\n                            \n                            MM slash DD slash YYYY\n                        \n                        Child 1 Allergies/Special NeedsChild 1 T-Shirt SizeYouth SmallYouth MediumYouth LargeYouth XLSmallMediumLargeXLChild 2 InfoChild 2 Name\n                            \n                            \n                                                    \n                                                    First\n                                                \n                            \n                            \n                                                    \n                                                    Last\n                                                \n                            \n                        Child 2 AgeChild 2 GradeChild 2 Birthdate\n                            \n                            MM slash DD slash YYYY\n                        \n                        Child 2 Allergies/Special NeedsChild 2 T-Shirt SizeYouth SmallYouth MediumYouth LargeYouth XLSmallMediumLargeXLChild 3 InfoChild 3 Name\n                            \n                            \n                                                    \n                                                    First\n                                                \n                            \n                            \n                                                    \n                                                    Last\n                                                \n                            \n                        Child 3 AgeChild 3 GradeChild 3 Birthdate\n                            \n                            MM slash DD slash YYYY\n                        \n                        Child 3 Allergies/Special NeedsChild 3 T-Shirt SizeYouth SmallYouth MediumYouth LargeYouth XLSmallMediumLargeXL
URL:https://christandstlukes.org/event/week-of-wonder/2026-08-10/
LOCATION:Christ & St. Luke’s\, 560 West Olney Road\, Norfolk\, VA\, 23507\, United States
ATTACH;FMTTYPE=image/jpeg:https://christandstlukes.org/wp-content/uploads/2023/08/2023-Wow-2.jpg
ORGANIZER;CN="Kathy Hanna":MAILTO:kathy.hanna@christandstlukes.org
GEO:36.8598486;-76.2979187
X-APPLE-STRUCTURED-LOCATION;VALUE=URI;X-ADDRESS=Christ & St. Luke’s 560 West Olney Road Norfolk VA 23507 United States;X-APPLE-RADIUS=500;X-TITLE=560 West Olney Road:geo:-76.2979187,36.8598486
END:VEVENT
END:VCALENDAR