BEGIN:VCALENDAR
VERSION:2.0
PRODID:-//Christ &amp; St. Luke&#039;s Episcopal Church - ECPv6.15.20//NONSGML v1.0//EN
CALSCALE:GREGORIAN
METHOD:PUBLISH
X-WR-CALNAME:Christ &amp; St. Luke&#039;s Episcopal Church
X-ORIGINAL-URL:https://christandstlukes.org
X-WR-CALDESC:Events for Christ &amp; St. Luke&#039;s Episcopal Church
REFRESH-INTERVAL;VALUE=DURATION:PT1H
X-Robots-Tag:noindex
X-PUBLISHED-TTL:PT1H
BEGIN:VTIMEZONE
TZID:America/New_York
BEGIN:DAYLIGHT
TZOFFSETFROM:-0500
TZOFFSETTO:-0400
TZNAME:EDT
DTSTART:20240310T070000
END:DAYLIGHT
BEGIN:STANDARD
TZOFFSETFROM:-0400
TZOFFSETTO:-0500
TZNAME:EST
DTSTART:20241103T060000
END:STANDARD
BEGIN:DAYLIGHT
TZOFFSETFROM:-0500
TZOFFSETTO:-0400
TZNAME:EDT
DTSTART:20250309T070000
END:DAYLIGHT
BEGIN:STANDARD
TZOFFSETFROM:-0400
TZOFFSETTO:-0500
TZNAME:EST
DTSTART:20251102T060000
END:STANDARD
BEGIN:DAYLIGHT
TZOFFSETFROM:-0500
TZOFFSETTO:-0400
TZNAME:EDT
DTSTART:20260308T070000
END:DAYLIGHT
BEGIN:STANDARD
TZOFFSETFROM:-0400
TZOFFSETTO:-0500
TZNAME:EST
DTSTART:20261101T060000
END:STANDARD
BEGIN:DAYLIGHT
TZOFFSETFROM:-0500
TZOFFSETTO:-0400
TZNAME:EDT
DTSTART:20270314T070000
END:DAYLIGHT
BEGIN:STANDARD
TZOFFSETFROM:-0400
TZOFFSETTO:-0500
TZNAME:EST
DTSTART:20271107T060000
END:STANDARD
END:VTIMEZONE
BEGIN:VEVENT
DTSTART;TZID=America/New_York:20260404T170000
DTEND;TZID=America/New_York:20260404T180000
DTSTAMP:20260421T195507
CREATED:20260224T152031Z
LAST-MODIFIED:20260224T152031Z
UID:10011581-1775322000-1775325600@christandstlukes.org
SUMMARY:Easter Egg Hunt
DESCRIPTION:Details coming soon
URL:https://christandstlukes.org/event/easter-egg-hunt/
LOCATION:Christ & St. Luke’s\, 560 West Olney Road\, Norfolk\, VA\, 23507\, United States
CATEGORIES:Families and Children,Holy Week,Liturgy & Music
ATTACH;FMTTYPE=image/jpeg:https://christandstlukes.org/wp-content/uploads/2023/01/CSL-inside-event-default.jpg
GEO:36.8598486;-76.2979187
X-APPLE-STRUCTURED-LOCATION;VALUE=URI;X-ADDRESS=Christ & St. Luke’s 560 West Olney Road Norfolk VA 23507 United States;X-APPLE-RADIUS=500;X-TITLE=560 West Olney Road:geo:-76.2979187,36.8598486
END:VEVENT
BEGIN:VEVENT
DTSTART;TZID=America/New_York:20260404T160000
DTEND;TZID=America/New_York:20260404T170000
DTSTAMP:20260421T195507
CREATED:20260224T151958Z
LAST-MODIFIED:20260317T142237Z
UID:10011580-1775318400-1775322000@christandstlukes.org
SUMMARY:Holy Saturday Family Easter Vigil with Baptisms
DESCRIPTION:Holy Saturday begins with emptiness after Jesus is laid in the tomb. A brief\, quiet Liturgy for Holy Saturday is held in the Lychgate Garden. By the evening\, the focus shifts to the emptiness of the tomb with the Great Vigil of Easter\, one of the Church’s most ancient liturgies. This service begins in darkness\, where a new fire is kindled — a sign of God’s active hope. Through sacred stories and the rite of baptism\, the service moves from despair to life\, culminating in a joyous burst of light and the first shouts of “Alleluia!” Two vigils are offered: a Family service at 4 p.m. followed by an Easter egg hunt for kids 11 and under\, and a traditional service at 7 p.m. in the Church\, including incense. The day that begins in death ends with the fullness of Resurrection joy!
URL:https://christandstlukes.org/event/holy-saturday-family-easter-vigil-with-baptisms/
LOCATION:Christ & St. Luke’s\, 560 West Olney Road\, Norfolk\, VA\, 23507\, United States
CATEGORIES:Families and Children,Holy Week,Liturgy & Music
ATTACH;FMTTYPE=image/jpeg:https://christandstlukes.org/wp-content/uploads/2023/01/CSL-inside-event-default.jpg
GEO:36.8598486;-76.2979187
X-APPLE-STRUCTURED-LOCATION;VALUE=URI;X-ADDRESS=Christ & St. Luke’s 560 West Olney Road Norfolk VA 23507 United States;X-APPLE-RADIUS=500;X-TITLE=560 West Olney Road:geo:-76.2979187,36.8598486
END:VEVENT
BEGIN:VEVENT
DTSTART;TZID=America/New_York:20260403T160000
DTEND;TZID=America/New_York:20260403T170000
DTSTAMP:20260421T195507
CREATED:20260224T151901Z
LAST-MODIFIED:20260224T154017Z
UID:10011579-1775232000-1775235600@christandstlukes.org
SUMMARY:Good Friday Stations of the Cross for Families
DESCRIPTION:Good Friday is the most solemn day of the Christian year\, a time to dwell in the sorrow of Christ’s final hours. We observe this day with a commitment to stay at the foot of the cross. We also hold the Solemn Liturgy of Good Friday in the church\, featuring the chanting of the passion narrative and the chance to venerate the cross. It concludes with solemn collects and administration of communion hosts from the reserve sacrament\, symbolizing the finality of Jesus’ death.
URL:https://christandstlukes.org/event/good-friday-stations-of-the-cross-for-families/
LOCATION:Christ & St. Luke’s\, 560 West Olney Road\, Norfolk\, VA\, 23507\, United States
CATEGORIES:Families and Children,Holy Week,Liturgy & Music
ATTACH;FMTTYPE=image/jpeg:https://christandstlukes.org/wp-content/uploads/2023/01/CSL-inside-event-default.jpg
GEO:36.8598486;-76.2979187
X-APPLE-STRUCTURED-LOCATION;VALUE=URI;X-ADDRESS=Christ & St. Luke’s 560 West Olney Road Norfolk VA 23507 United States;X-APPLE-RADIUS=500;X-TITLE=560 West Olney Road:geo:-76.2979187,36.8598486
END:VEVENT
BEGIN:VEVENT
DTSTART;TZID=America/New_York:20260402T170000
DTEND;TZID=America/New_York:20260402T174500
DTSTAMP:20260421T195507
CREATED:20260224T151441Z
LAST-MODIFIED:20260317T142012Z
UID:10011574-1775149200-1775151900@christandstlukes.org
SUMMARY:Maundy Thursday Family Service
DESCRIPTION:Maundy Thursday takes its name from the Latin “mandatum\,” or commandment\, given by Jesus to his disciples at the Last Supper: “love one another\,” before the descent into the darkness of Good Friday. This service includes the Washing of the Feet and the Stripping of the Altar.
URL:https://christandstlukes.org/event/maundy-thursday-family-service/
LOCATION:Christ & St. Luke’s\, 560 West Olney Road\, Norfolk\, VA\, 23507\, United States
CATEGORIES:Families and Children,Holy Week,Liturgy & Music
ATTACH;FMTTYPE=image/webp:https://christandstlukes.org/wp-content/uploads/2025/03/foot-washing.webp
GEO:36.8598486;-76.2979187
X-APPLE-STRUCTURED-LOCATION;VALUE=URI;X-ADDRESS=Christ & St. Luke’s 560 West Olney Road Norfolk VA 23507 United States;X-APPLE-RADIUS=500;X-TITLE=560 West Olney Road:geo:-76.2979187,36.8598486
END:VEVENT
BEGIN:VEVENT
DTSTART;TZID=America/New_York:20260322T150000
DTEND;TZID=America/New_York:20260322T210000
DTSTAMP:20260421T195507
CREATED:20260310T144428Z
LAST-MODIFIED:20260310T144428Z
UID:10011798-1774191600-1774213200@christandstlukes.org
SUMMARY:Young Families Admirals Game
DESCRIPTION:More details coming soon. Contact Fr. Jared Grant for more info.
URL:https://christandstlukes.org/event/young-families-admirals-game/
LOCATION:Norfolk Scope\, 201 East Brambleton Avenue\, Norfolk\, 23510\, United States
CATEGORIES:Families and Children,Fellowship
ATTACH;FMTTYPE=image/webp:https://christandstlukes.org/wp-content/uploads/2026/03/norfolk-admirals-featured.webp
ORGANIZER;CN="Jared Grant":MAILTO:jared.grant@christandstlukes.org
GEO:36.8532571;-76.2869039
X-APPLE-STRUCTURED-LOCATION;VALUE=URI;X-ADDRESS=Norfolk Scope 201 East Brambleton Avenue Norfolk 23510 United States;X-APPLE-RADIUS=500;X-TITLE=201 East Brambleton Avenue:geo:-76.2869039,36.8532571
END:VEVENT
BEGIN:VEVENT
DTSTART;TZID=America/New_York:20260222T113000
DTEND;TZID=America/New_York:20260222T130000
DTSTAMP:20260421T195507
CREATED:20260210T150008Z
LAST-MODIFIED:20260210T150008Z
UID:10011556-1771759800-1771765200@christandstlukes.org
SUMMARY:Gospel Gang Fellowship & Outreach Event
DESCRIPTION:The Gospel Gang will gather for their first fellowship & outreach event of 2026! All children ages 9-12 are invited to gather in Lower LLoyd following the 10:15 a.m. service for pizza\, games\, and outreach. We’ll be putting together bags of necessities for guests of the Norfolk Winter Shelter\, including the socks & gloves folks have been generously donating throughout the winter months.
URL:https://christandstlukes.org/event/gospel-gang-fellowship-outreach-event/
LOCATION:Christ & St. Luke’s\, 560 West Olney Road\, Norfolk\, VA\, 23507\, United States
CATEGORIES:Families and Children,Fellowship,Formation,Outreach
ATTACH;FMTTYPE=image/webp:https://christandstlukes.org/wp-content/uploads/2024/05/CSL-Youth-Logo-Screen.webp
ORGANIZER;CN="Rachel Welch":MAILTO:rachel.welch@christandstlukes.org
GEO:36.8598486;-76.2979187
X-APPLE-STRUCTURED-LOCATION;VALUE=URI;X-ADDRESS=Christ & St. Luke’s 560 West Olney Road Norfolk VA 23507 United States;X-APPLE-RADIUS=500;X-TITLE=560 West Olney Road:geo:-76.2979187,36.8598486
END:VEVENT
BEGIN:VEVENT
DTSTART;TZID=America/New_York:20251224T160000
DTEND;TZID=America/New_York:20251224T180000
DTSTAMP:20260421T195507
CREATED:20251024T143922Z
LAST-MODIFIED:20251118T153217Z
UID:10011361-1766592000-1766599200@christandstlukes.org
SUMMARY:Family-friendly Eucharist featuring the Children’s Christmas Pageant
DESCRIPTION:The Christmas Pageant is one of the most special times of the year. It’s a unique and cherished opportunity for our children to step into and retell the greatest love story ever known. Watching them live into being a part of our history\, embodying the roles of shepherds\, angels\, and even a live baby Jesus\, is  moving and brings the story to life. \nThere’s a moment\, usually around the fourth rehearsal\, when I look out and see those children\, and it hits me: “Wait\, those really are shepherds over there. Those are really angels. Look at Mary!” \nIn those instances\, it’s not just a play; it’s a profound experience that reminds us all of the meaning of Christmas. \nThe pageant is more than just a performance; it’s a vital part of our community\, a tradition that brings generations together and allows us to experience the timeless narrative of Christ’s birth through the innocent and joyful eyes of our youngest members. It’s a beautiful way to connect with our faith and with each other.
URL:https://christandstlukes.org/event/childrens-christmas-pageant/
LOCATION:Christ & St. Luke’s\, 560 West Olney Road\, Norfolk\, VA\, 23507\, United States
CATEGORIES:Advent & Christmas,Families and Children,Liturgy & Music
ATTACH;FMTTYPE=image/webp:https://christandstlukes.org/wp-content/uploads/2023/12/christmas-pageant-featured.webp
ORGANIZER;CN="Kathy Hanna":MAILTO:kathy.hanna@christandstlukes.org
GEO:36.8598486;-76.2979187
X-APPLE-STRUCTURED-LOCATION;VALUE=URI;X-ADDRESS=Christ & St. Luke’s 560 West Olney Road Norfolk VA 23507 United States;X-APPLE-RADIUS=500;X-TITLE=560 West Olney Road:geo:-76.2979187,36.8598486
END:VEVENT
BEGIN:VEVENT
DTSTART;TZID=America/New_York:20251116T150000
DTEND;TZID=America/New_York:20251116T170000
DTSTAMP:20260421T195507
CREATED:20251105T155205Z
LAST-MODIFIED:20251110T152805Z
UID:10011374-1763305200-1763312400@christandstlukes.org
SUMMARY:Young Families Fellowship
DESCRIPTION:Before the colder weather truly arrives and the light gets too low\, The Young Families Fellowship will gather for a day at the park on Sunday Nov. 16th. Join us at Lafayette Park in Norfolk from 3:00-4:30 p.m. This is an informal\, come-as-you-are gathering. No RSVP required. Reach out to Fr. Jared with any questions.
URL:https://christandstlukes.org/event/young-families-fellowship/
LOCATION:Christ & St. Luke’s\, 560 West Olney Road\, Norfolk\, VA\, 23507\, United States
CATEGORIES:Families and Children,Fellowship
ATTACH;FMTTYPE=image/jpeg:https://christandstlukes.org/wp-content/uploads/2023/01/CSL-inside-event-default.jpg
ORGANIZER;CN="Jared Grant":MAILTO:jared.grant@christandstlukes.org
GEO:36.8598486;-76.2979187
X-APPLE-STRUCTURED-LOCATION;VALUE=URI;X-ADDRESS=Christ & St. Luke’s 560 West Olney Road Norfolk VA 23507 United States;X-APPLE-RADIUS=500;X-TITLE=560 West Olney Road:geo:-76.2979187,36.8598486
END:VEVENT
END:VCALENDAR