BEGIN:VCALENDAR
VERSION:2.0
PRODID:-//Christ &amp; St. Luke&#039;s Episcopal Church - ECPv6.15.20//NONSGML v1.0//EN
CALSCALE:GREGORIAN
METHOD:PUBLISH
X-WR-CALNAME:Christ &amp; St. Luke&#039;s Episcopal Church
X-ORIGINAL-URL:https://christandstlukes.org
X-WR-CALDESC:Events for Christ &amp; St. Luke&#039;s Episcopal Church
REFRESH-INTERVAL;VALUE=DURATION:PT1H
X-Robots-Tag:noindex
X-PUBLISHED-TTL:PT1H
BEGIN:VTIMEZONE
TZID:America/New_York
BEGIN:DAYLIGHT
TZOFFSETFROM:-0500
TZOFFSETTO:-0400
TZNAME:EDT
DTSTART:20250309T070000
END:DAYLIGHT
BEGIN:STANDARD
TZOFFSETFROM:-0400
TZOFFSETTO:-0500
TZNAME:EST
DTSTART:20251102T060000
END:STANDARD
BEGIN:DAYLIGHT
TZOFFSETFROM:-0500
TZOFFSETTO:-0400
TZNAME:EDT
DTSTART:20260308T070000
END:DAYLIGHT
BEGIN:STANDARD
TZOFFSETFROM:-0400
TZOFFSETTO:-0500
TZNAME:EST
DTSTART:20261101T060000
END:STANDARD
BEGIN:DAYLIGHT
TZOFFSETFROM:-0500
TZOFFSETTO:-0400
TZNAME:EDT
DTSTART:20270314T070000
END:DAYLIGHT
BEGIN:STANDARD
TZOFFSETFROM:-0400
TZOFFSETTO:-0500
TZNAME:EST
DTSTART:20271107T060000
END:STANDARD
END:VTIMEZONE
BEGIN:VEVENT
DTSTART;TZID=America/New_York:20260503T114500
DTEND;TZID=America/New_York:20260503T133000
DTSTAMP:20260421T212743
CREATED:20260421T144554Z
LAST-MODIFIED:20260421T144554Z
UID:10011821-1777808700-1777815000@christandstlukes.org
SUMMARY:Gospel Gang Outreach & Fellowship Event
DESCRIPTION:The Gospel Gang will have its final outreach and fellowship event of the program year Sunday\, May 3. We’ll enjoy sandwiches\, snacks\, games\, and origami\, assisting in preparation for our parish-wide Pentecost project. All children ages 9-12 are welcome to join us in Lower Lloyd Hall\, even if they haven’t yet had a chance to join us for our regular formation group on Sundays at 9:15 a.m. Come join the fun with the Gospel Gang!
URL:https://christandstlukes.org/event/gospel-gang-outreach-fellowship-event/
LOCATION:Christ & St. Luke’s\, 560 West Olney Road\, Norfolk\, VA\, 23507\, United States
CATEGORIES:Families and Children,Formation,Youth
ATTACH;FMTTYPE=image/jpeg:https://christandstlukes.org/wp-content/uploads/2023/01/CSLY-logo-screen.jpg
ORGANIZER;CN="Rachel Welch":MAILTO:rachel.welch@christandstlukes.org
GEO:36.8598486;-76.2979187
X-APPLE-STRUCTURED-LOCATION;VALUE=URI;X-ADDRESS=Christ & St. Luke’s 560 West Olney Road Norfolk VA 23507 United States;X-APPLE-RADIUS=500;X-TITLE=560 West Olney Road:geo:-76.2979187,36.8598486
END:VEVENT
END:VCALENDAR