BEGIN:VCALENDAR
VERSION:2.0
PRODID:-//Christ &amp; St. Luke&#039;s Episcopal Church - ECPv6.15.20//NONSGML v1.0//EN
CALSCALE:GREGORIAN
METHOD:PUBLISH
X-ORIGINAL-URL:https://christandstlukes.org
X-WR-CALDESC:Events for Christ &amp; St. Luke&#039;s Episcopal Church
REFRESH-INTERVAL;VALUE=DURATION:PT1H
X-Robots-Tag:noindex
X-PUBLISHED-TTL:PT1H
BEGIN:VTIMEZONE
TZID:America/New_York
BEGIN:DAYLIGHT
TZOFFSETFROM:-0500
TZOFFSETTO:-0400
TZNAME:EDT
DTSTART:20250309T070000
END:DAYLIGHT
BEGIN:STANDARD
TZOFFSETFROM:-0400
TZOFFSETTO:-0500
TZNAME:EST
DTSTART:20251102T060000
END:STANDARD
BEGIN:DAYLIGHT
TZOFFSETFROM:-0500
TZOFFSETTO:-0400
TZNAME:EDT
DTSTART:20260308T070000
END:DAYLIGHT
BEGIN:STANDARD
TZOFFSETFROM:-0400
TZOFFSETTO:-0500
TZNAME:EST
DTSTART:20261101T060000
END:STANDARD
BEGIN:DAYLIGHT
TZOFFSETFROM:-0500
TZOFFSETTO:-0400
TZNAME:EDT
DTSTART:20270314T070000
END:DAYLIGHT
BEGIN:STANDARD
TZOFFSETFROM:-0400
TZOFFSETTO:-0500
TZNAME:EST
DTSTART:20271107T060000
END:STANDARD
END:VTIMEZONE
BEGIN:VEVENT
DTSTART;VALUE=DATE:20260119
DTEND;VALUE=DATE:20260120
DTSTAMP:20260422T105932
CREATED:20260118T143759Z
LAST-MODIFIED:20260118T143759Z
UID:10011469-1768780800-1768867199@christandstlukes.org
SUMMARY:Church Offices Closed
DESCRIPTION:The Church offices will be closed in observance of Martin Luther King Jr. Day.
URL:https://christandstlukes.org/event/church-offices-closed/
LOCATION:Christ & St. Luke’s\, 560 West Olney Road\, Norfolk\, VA\, 23507\, United States
CATEGORIES:Administration
ATTACH;FMTTYPE=image/jpeg:https://christandstlukes.org/wp-content/uploads/2023/01/CSL-inside-event-default.jpg
GEO:36.8598486;-76.2979187
X-APPLE-STRUCTURED-LOCATION;VALUE=URI;X-ADDRESS=Christ & St. Luke’s 560 West Olney Road Norfolk VA 23507 United States;X-APPLE-RADIUS=500;X-TITLE=560 West Olney Road:geo:-76.2979187,36.8598486
END:VEVENT
END:VCALENDAR